BEGIN:VCALENDAR
VERSION:2.0
PRODID:-//Los Angeles County Aging &amp; Disabilities - ECPv6.15.20//NONSGML v1.0//EN
CALSCALE:GREGORIAN
METHOD:PUBLISH
X-ORIGINAL-URL:https://ad.lacounty.gov
X-WR-CALDESC:Events for Los Angeles County Aging &amp; Disabilities
REFRESH-INTERVAL;VALUE=DURATION:PT1H
X-Robots-Tag:noindex
X-PUBLISHED-TTL:PT1H
BEGIN:VTIMEZONE
TZID:America/Los_Angeles
BEGIN:DAYLIGHT
TZOFFSETFROM:-0800
TZOFFSETTO:-0700
TZNAME:PDT
DTSTART:20250309T100000
END:DAYLIGHT
BEGIN:STANDARD
TZOFFSETFROM:-0700
TZOFFSETTO:-0800
TZNAME:PST
DTSTART:20251102T090000
END:STANDARD
BEGIN:DAYLIGHT
TZOFFSETFROM:-0800
TZOFFSETTO:-0700
TZNAME:PDT
DTSTART:20260308T100000
END:DAYLIGHT
BEGIN:STANDARD
TZOFFSETFROM:-0700
TZOFFSETTO:-0800
TZNAME:PST
DTSTART:20261101T090000
END:STANDARD
BEGIN:DAYLIGHT
TZOFFSETFROM:-0800
TZOFFSETTO:-0700
TZNAME:PDT
DTSTART:20270314T100000
END:DAYLIGHT
BEGIN:STANDARD
TZOFFSETFROM:-0700
TZOFFSETTO:-0800
TZNAME:PST
DTSTART:20271107T090000
END:STANDARD
BEGIN:DAYLIGHT
TZOFFSETFROM:-0800
TZOFFSETTO:-0700
TZNAME:PDT
DTSTART:20280312T100000
END:DAYLIGHT
BEGIN:STANDARD
TZOFFSETFROM:-0700
TZOFFSETTO:-0800
TZNAME:PST
DTSTART:20281105T090000
END:STANDARD
END:VTIMEZONE
BEGIN:VEVENT
DTSTART;TZID=America/Los_Angeles:20260702T080000
DTEND;TZID=America/Los_Angeles:20260702T090000
DTSTAMP:20260423T023142
CREATED:20230520T003457Z
LAST-MODIFIED:20230520T003550Z
UID:20000166-1782979200-1782982800@ad.lacounty.gov
SUMMARY:Centro Maravilla Service Center Events
DESCRIPTION:
URL:https://ad.lacounty.gov/event/centro-maravilla-service-center-events/2026-07-02/
LOCATION:CENTRO MARAVILLA SERVICE CENTER
END:VEVENT
BEGIN:VEVENT
DTSTART;TZID=America/Los_Angeles:20260709T080000
DTEND;TZID=America/Los_Angeles:20260709T090000
DTSTAMP:20260423T023142
CREATED:20230520T003457Z
LAST-MODIFIED:20230520T003550Z
UID:20000167-1783584000-1783587600@ad.lacounty.gov
SUMMARY:Centro Maravilla Service Center Events
DESCRIPTION:
URL:https://ad.lacounty.gov/event/centro-maravilla-service-center-events/2026-07-09/
LOCATION:CENTRO MARAVILLA SERVICE CENTER
END:VEVENT
BEGIN:VEVENT
DTSTART;TZID=America/Los_Angeles:20260716T080000
DTEND;TZID=America/Los_Angeles:20260716T090000
DTSTAMP:20260423T023142
CREATED:20230520T003457Z
LAST-MODIFIED:20230520T003550Z
UID:20000168-1784188800-1784192400@ad.lacounty.gov
SUMMARY:Centro Maravilla Service Center Events
DESCRIPTION:
URL:https://ad.lacounty.gov/event/centro-maravilla-service-center-events/2026-07-16/
LOCATION:CENTRO MARAVILLA SERVICE CENTER
END:VEVENT
BEGIN:VEVENT
DTSTART;TZID=America/Los_Angeles:20260723T080000
DTEND;TZID=America/Los_Angeles:20260723T090000
DTSTAMP:20260423T023142
CREATED:20230520T003457Z
LAST-MODIFIED:20230520T003550Z
UID:20000169-1784793600-1784797200@ad.lacounty.gov
SUMMARY:Centro Maravilla Service Center Events
DESCRIPTION:
URL:https://ad.lacounty.gov/event/centro-maravilla-service-center-events/2026-07-23/
LOCATION:CENTRO MARAVILLA SERVICE CENTER
END:VEVENT
BEGIN:VEVENT
DTSTART;TZID=America/Los_Angeles:20260730T080000
DTEND;TZID=America/Los_Angeles:20260730T090000
DTSTAMP:20260423T023142
CREATED:20230520T003457Z
LAST-MODIFIED:20230520T003550Z
UID:20000170-1785398400-1785402000@ad.lacounty.gov
SUMMARY:Centro Maravilla Service Center Events
DESCRIPTION:
URL:https://ad.lacounty.gov/event/centro-maravilla-service-center-events/2026-07-30/
LOCATION:CENTRO MARAVILLA SERVICE CENTER
END:VEVENT
BEGIN:VEVENT
DTSTART;TZID=America/Los_Angeles:20260806T080000
DTEND;TZID=America/Los_Angeles:20260806T090000
DTSTAMP:20260423T023142
CREATED:20230520T003457Z
LAST-MODIFIED:20230520T003550Z
UID:20000171-1786003200-1786006800@ad.lacounty.gov
SUMMARY:Centro Maravilla Service Center Events
DESCRIPTION:
URL:https://ad.lacounty.gov/event/centro-maravilla-service-center-events/2026-08-06/
LOCATION:CENTRO MARAVILLA SERVICE CENTER
END:VEVENT
BEGIN:VEVENT
DTSTART;TZID=America/Los_Angeles:20260813T080000
DTEND;TZID=America/Los_Angeles:20260813T090000
DTSTAMP:20260423T023142
CREATED:20230520T003457Z
LAST-MODIFIED:20230520T003550Z
UID:20000172-1786608000-1786611600@ad.lacounty.gov
SUMMARY:Centro Maravilla Service Center Events
DESCRIPTION:
URL:https://ad.lacounty.gov/event/centro-maravilla-service-center-events/2026-08-13/
LOCATION:CENTRO MARAVILLA SERVICE CENTER
END:VEVENT
BEGIN:VEVENT
DTSTART;TZID=America/Los_Angeles:20260820T080000
DTEND;TZID=America/Los_Angeles:20260820T090000
DTSTAMP:20260423T023142
CREATED:20230520T003457Z
LAST-MODIFIED:20230520T003550Z
UID:20000173-1787212800-1787216400@ad.lacounty.gov
SUMMARY:Centro Maravilla Service Center Events
DESCRIPTION:
URL:https://ad.lacounty.gov/event/centro-maravilla-service-center-events/2026-08-20/
LOCATION:CENTRO MARAVILLA SERVICE CENTER
END:VEVENT
BEGIN:VEVENT
DTSTART;TZID=America/Los_Angeles:20260827T080000
DTEND;TZID=America/Los_Angeles:20260827T090000
DTSTAMP:20260423T023142
CREATED:20230520T003457Z
LAST-MODIFIED:20230520T003550Z
UID:20000174-1787817600-1787821200@ad.lacounty.gov
SUMMARY:Centro Maravilla Service Center Events
DESCRIPTION:
URL:https://ad.lacounty.gov/event/centro-maravilla-service-center-events/2026-08-27/
LOCATION:CENTRO MARAVILLA SERVICE CENTER
END:VEVENT
BEGIN:VEVENT
DTSTART;TZID=America/Los_Angeles:20260903T080000
DTEND;TZID=America/Los_Angeles:20260903T090000
DTSTAMP:20260423T023142
CREATED:20230520T003457Z
LAST-MODIFIED:20230520T003550Z
UID:20000175-1788422400-1788426000@ad.lacounty.gov
SUMMARY:Centro Maravilla Service Center Events
DESCRIPTION:
URL:https://ad.lacounty.gov/event/centro-maravilla-service-center-events/2026-09-03/
LOCATION:CENTRO MARAVILLA SERVICE CENTER
END:VEVENT
BEGIN:VEVENT
DTSTART;TZID=America/Los_Angeles:20260910T080000
DTEND;TZID=America/Los_Angeles:20260910T090000
DTSTAMP:20260423T023142
CREATED:20230520T003457Z
LAST-MODIFIED:20230520T003550Z
UID:20000176-1789027200-1789030800@ad.lacounty.gov
SUMMARY:Centro Maravilla Service Center Events
DESCRIPTION:
URL:https://ad.lacounty.gov/event/centro-maravilla-service-center-events/2026-09-10/
LOCATION:CENTRO MARAVILLA SERVICE CENTER
END:VEVENT
BEGIN:VEVENT
DTSTART;TZID=America/Los_Angeles:20260917T080000
DTEND;TZID=America/Los_Angeles:20260917T090000
DTSTAMP:20260423T023142
CREATED:20230520T003457Z
LAST-MODIFIED:20230520T003550Z
UID:20000177-1789632000-1789635600@ad.lacounty.gov
SUMMARY:Centro Maravilla Service Center Events
DESCRIPTION:
URL:https://ad.lacounty.gov/event/centro-maravilla-service-center-events/2026-09-17/
LOCATION:CENTRO MARAVILLA SERVICE CENTER
END:VEVENT
BEGIN:VEVENT
DTSTART;TZID=America/Los_Angeles:20260924T080000
DTEND;TZID=America/Los_Angeles:20260924T090000
DTSTAMP:20260423T023142
CREATED:20230520T003457Z
LAST-MODIFIED:20230520T003550Z
UID:20000178-1790236800-1790240400@ad.lacounty.gov
SUMMARY:Centro Maravilla Service Center Events
DESCRIPTION:
URL:https://ad.lacounty.gov/event/centro-maravilla-service-center-events/2026-09-24/
LOCATION:CENTRO MARAVILLA SERVICE CENTER
END:VEVENT
BEGIN:VEVENT
DTSTART;TZID=America/Los_Angeles:20261001T080000
DTEND;TZID=America/Los_Angeles:20261001T090000
DTSTAMP:20260423T023142
CREATED:20230520T003457Z
LAST-MODIFIED:20230520T003550Z
UID:20000179-1790841600-1790845200@ad.lacounty.gov
SUMMARY:Centro Maravilla Service Center Events
DESCRIPTION:
URL:https://ad.lacounty.gov/event/centro-maravilla-service-center-events/2026-10-01/
LOCATION:CENTRO MARAVILLA SERVICE CENTER
END:VEVENT
BEGIN:VEVENT
DTSTART;TZID=America/Los_Angeles:20261008T080000
DTEND;TZID=America/Los_Angeles:20261008T090000
DTSTAMP:20260423T023142
CREATED:20230520T003457Z
LAST-MODIFIED:20230520T003550Z
UID:20000180-1791446400-1791450000@ad.lacounty.gov
SUMMARY:Centro Maravilla Service Center Events
DESCRIPTION:
URL:https://ad.lacounty.gov/event/centro-maravilla-service-center-events/2026-10-08/
LOCATION:CENTRO MARAVILLA SERVICE CENTER
END:VEVENT
BEGIN:VEVENT
DTSTART;TZID=America/Los_Angeles:20261015T080000
DTEND;TZID=America/Los_Angeles:20261015T090000
DTSTAMP:20260423T023142
CREATED:20230520T003457Z
LAST-MODIFIED:20230520T003550Z
UID:20000181-1792051200-1792054800@ad.lacounty.gov
SUMMARY:Centro Maravilla Service Center Events
DESCRIPTION:
URL:https://ad.lacounty.gov/event/centro-maravilla-service-center-events/2026-10-15/
LOCATION:CENTRO MARAVILLA SERVICE CENTER
END:VEVENT
BEGIN:VEVENT
DTSTART;TZID=America/Los_Angeles:20261022T080000
DTEND;TZID=America/Los_Angeles:20261022T090000
DTSTAMP:20260423T023142
CREATED:20230520T003457Z
LAST-MODIFIED:20230520T003550Z
UID:20000182-1792656000-1792659600@ad.lacounty.gov
SUMMARY:Centro Maravilla Service Center Events
DESCRIPTION:
URL:https://ad.lacounty.gov/event/centro-maravilla-service-center-events/2026-10-22/
LOCATION:CENTRO MARAVILLA SERVICE CENTER
END:VEVENT
BEGIN:VEVENT
DTSTART;TZID=America/Los_Angeles:20261029T080000
DTEND;TZID=America/Los_Angeles:20261029T090000
DTSTAMP:20260423T023142
CREATED:20230520T003457Z
LAST-MODIFIED:20230520T003550Z
UID:20000183-1793260800-1793264400@ad.lacounty.gov
SUMMARY:Centro Maravilla Service Center Events
DESCRIPTION:
URL:https://ad.lacounty.gov/event/centro-maravilla-service-center-events/2026-10-29/
LOCATION:CENTRO MARAVILLA SERVICE CENTER
END:VEVENT
BEGIN:VEVENT
DTSTART;TZID=America/Los_Angeles:20261105T080000
DTEND;TZID=America/Los_Angeles:20261105T090000
DTSTAMP:20260423T023142
CREATED:20230520T003457Z
LAST-MODIFIED:20230520T003550Z
UID:20000184-1793865600-1793869200@ad.lacounty.gov
SUMMARY:Centro Maravilla Service Center Events
DESCRIPTION:
URL:https://ad.lacounty.gov/event/centro-maravilla-service-center-events/2026-11-05/
LOCATION:CENTRO MARAVILLA SERVICE CENTER
END:VEVENT
BEGIN:VEVENT
DTSTART;TZID=America/Los_Angeles:20261112T080000
DTEND;TZID=America/Los_Angeles:20261112T090000
DTSTAMP:20260423T023142
CREATED:20230520T003457Z
LAST-MODIFIED:20230520T003550Z
UID:20000185-1794470400-1794474000@ad.lacounty.gov
SUMMARY:Centro Maravilla Service Center Events
DESCRIPTION:
URL:https://ad.lacounty.gov/event/centro-maravilla-service-center-events/2026-11-12/
LOCATION:CENTRO MARAVILLA SERVICE CENTER
END:VEVENT
BEGIN:VEVENT
DTSTART;TZID=America/Los_Angeles:20261119T080000
DTEND;TZID=America/Los_Angeles:20261119T090000
DTSTAMP:20260423T023142
CREATED:20230520T003457Z
LAST-MODIFIED:20230520T003550Z
UID:20000186-1795075200-1795078800@ad.lacounty.gov
SUMMARY:Centro Maravilla Service Center Events
DESCRIPTION:
URL:https://ad.lacounty.gov/event/centro-maravilla-service-center-events/2026-11-19/
LOCATION:CENTRO MARAVILLA SERVICE CENTER
END:VEVENT
BEGIN:VEVENT
DTSTART;TZID=America/Los_Angeles:20261126T080000
DTEND;TZID=America/Los_Angeles:20261126T090000
DTSTAMP:20260423T023142
CREATED:20230520T003457Z
LAST-MODIFIED:20230520T003550Z
UID:20000187-1795680000-1795683600@ad.lacounty.gov
SUMMARY:Centro Maravilla Service Center Events
DESCRIPTION:
URL:https://ad.lacounty.gov/event/centro-maravilla-service-center-events/2026-11-26/
LOCATION:CENTRO MARAVILLA SERVICE CENTER
END:VEVENT
BEGIN:VEVENT
DTSTART;TZID=America/Los_Angeles:20261203T080000
DTEND;TZID=America/Los_Angeles:20261203T090000
DTSTAMP:20260423T023142
CREATED:20230520T003457Z
LAST-MODIFIED:20230520T003550Z
UID:20000188-1796284800-1796288400@ad.lacounty.gov
SUMMARY:Centro Maravilla Service Center Events
DESCRIPTION:
URL:https://ad.lacounty.gov/event/centro-maravilla-service-center-events/2026-12-03/
LOCATION:CENTRO MARAVILLA SERVICE CENTER
END:VEVENT
BEGIN:VEVENT
DTSTART;TZID=America/Los_Angeles:20261210T080000
DTEND;TZID=America/Los_Angeles:20261210T090000
DTSTAMP:20260423T023142
CREATED:20230520T003457Z
LAST-MODIFIED:20230520T003550Z
UID:20000189-1796889600-1796893200@ad.lacounty.gov
SUMMARY:Centro Maravilla Service Center Events
DESCRIPTION:
URL:https://ad.lacounty.gov/event/centro-maravilla-service-center-events/2026-12-10/
LOCATION:CENTRO MARAVILLA SERVICE CENTER
END:VEVENT
BEGIN:VEVENT
DTSTART;TZID=America/Los_Angeles:20261217T080000
DTEND;TZID=America/Los_Angeles:20261217T090000
DTSTAMP:20260423T023142
CREATED:20230520T003457Z
LAST-MODIFIED:20230520T003550Z
UID:20000190-1797494400-1797498000@ad.lacounty.gov
SUMMARY:Centro Maravilla Service Center Events
DESCRIPTION:
URL:https://ad.lacounty.gov/event/centro-maravilla-service-center-events/2026-12-17/
LOCATION:CENTRO MARAVILLA SERVICE CENTER
END:VEVENT
BEGIN:VEVENT
DTSTART;TZID=America/Los_Angeles:20261224T080000
DTEND;TZID=America/Los_Angeles:20261224T090000
DTSTAMP:20260423T023142
CREATED:20230520T003457Z
LAST-MODIFIED:20230520T003550Z
UID:20000191-1798099200-1798102800@ad.lacounty.gov
SUMMARY:Centro Maravilla Service Center Events
DESCRIPTION:
URL:https://ad.lacounty.gov/event/centro-maravilla-service-center-events/2026-12-24/
LOCATION:CENTRO MARAVILLA SERVICE CENTER
END:VEVENT
BEGIN:VEVENT
DTSTART;TZID=America/Los_Angeles:20261231T080000
DTEND;TZID=America/Los_Angeles:20261231T090000
DTSTAMP:20260423T023142
CREATED:20230520T003457Z
LAST-MODIFIED:20230520T003550Z
UID:20000192-1798704000-1798707600@ad.lacounty.gov
SUMMARY:Centro Maravilla Service Center Events
DESCRIPTION:
URL:https://ad.lacounty.gov/event/centro-maravilla-service-center-events/2026-12-31/
LOCATION:CENTRO MARAVILLA SERVICE CENTER
END:VEVENT
BEGIN:VEVENT
DTSTART;TZID=America/Los_Angeles:20270107T080000
DTEND;TZID=America/Los_Angeles:20270107T090000
DTSTAMP:20260423T023142
CREATED:20230520T003457Z
LAST-MODIFIED:20230520T003550Z
UID:20000193-1799308800-1799312400@ad.lacounty.gov
SUMMARY:Centro Maravilla Service Center Events
DESCRIPTION:
URL:https://ad.lacounty.gov/event/centro-maravilla-service-center-events/2027-01-07/
LOCATION:CENTRO MARAVILLA SERVICE CENTER
END:VEVENT
BEGIN:VEVENT
DTSTART;TZID=America/Los_Angeles:20270114T080000
DTEND;TZID=America/Los_Angeles:20270114T090000
DTSTAMP:20260423T023142
CREATED:20230520T003457Z
LAST-MODIFIED:20230520T003550Z
UID:20000194-1799913600-1799917200@ad.lacounty.gov
SUMMARY:Centro Maravilla Service Center Events
DESCRIPTION:
URL:https://ad.lacounty.gov/event/centro-maravilla-service-center-events/2027-01-14/
LOCATION:CENTRO MARAVILLA SERVICE CENTER
END:VEVENT
BEGIN:VEVENT
DTSTART;TZID=America/Los_Angeles:20270121T080000
DTEND;TZID=America/Los_Angeles:20270121T090000
DTSTAMP:20260423T023142
CREATED:20230520T003457Z
LAST-MODIFIED:20230520T003550Z
UID:20000195-1800518400-1800522000@ad.lacounty.gov
SUMMARY:Centro Maravilla Service Center Events
DESCRIPTION:
URL:https://ad.lacounty.gov/event/centro-maravilla-service-center-events/2027-01-21/
LOCATION:CENTRO MARAVILLA SERVICE CENTER
END:VEVENT
END:VCALENDAR